BEGIN:VCALENDAR
VERSION:2.0
PRODID:-//First Baptist Church of Dawson Creek, BC. - ECPv6.15.17//NONSGML v1.0//EN
CALSCALE:GREGORIAN
METHOD:PUBLISH
X-WR-CALNAME:First Baptist Church of Dawson Creek, BC.
X-ORIGINAL-URL:https://www.dcfirstbaptist.ca
X-WR-CALDESC:Events for First Baptist Church of Dawson Creek, BC.
REFRESH-INTERVAL;VALUE=DURATION:PT1H
X-Robots-Tag:noindex
X-PUBLISHED-TTL:PT1H
BEGIN:VTIMEZONE
TZID:America/Denver
BEGIN:DAYLIGHT
TZOFFSETFROM:-0700
TZOFFSETTO:-0600
TZNAME:MDT
DTSTART:20250309T090000
END:DAYLIGHT
BEGIN:STANDARD
TZOFFSETFROM:-0600
TZOFFSETTO:-0700
TZNAME:MST
DTSTART:20251102T080000
END:STANDARD
BEGIN:DAYLIGHT
TZOFFSETFROM:-0700
TZOFFSETTO:-0600
TZNAME:MDT
DTSTART:20260308T090000
END:DAYLIGHT
BEGIN:STANDARD
TZOFFSETFROM:-0600
TZOFFSETTO:-0700
TZNAME:MST
DTSTART:20261101T080000
END:STANDARD
BEGIN:DAYLIGHT
TZOFFSETFROM:-0700
TZOFFSETTO:-0600
TZNAME:MDT
DTSTART:20270314T090000
END:DAYLIGHT
BEGIN:STANDARD
TZOFFSETFROM:-0600
TZOFFSETTO:-0700
TZNAME:MST
DTSTART:20271107T080000
END:STANDARD
END:VTIMEZONE
BEGIN:VEVENT
DTSTART;TZID=America/Denver:20260603T100000
DTEND;TZID=America/Denver:20260603T113000
DTSTAMP:20260420T090938
CREATED:20251023T171448Z
LAST-MODIFIED:20260105T044734Z
UID:7231-1780480800-1780486200@www.dcfirstbaptist.ca
SUMMARY:Ladies Ministry & Fellowship
DESCRIPTION:When: First Wednesday of every month at 10:00 AMWhere: First Baptist Church Dawson Creek\nAddress: 1400 – 113th AvenueWho: Women of all ages are welcome \nTake a break midweek and join other women from Dawson Creek for a relaxing morning of coffee\, tea\, and connection. Our Women’s Ministry Coffee & Fellowship is a wonderful opportunity to build friendships\, share stories\, and be encouraged in faith. \nEach month offers time for conversation\, prayer\, and laughter with like-minded women who care for and uplift one another. Whether you’re new to the community or part of the church family\, you’ll find a place where you belong. \nIf you’re looking for a women’s ministry in Dawson Creek\, or simply want to spend a meaningful morning with new friends\, we’d love to have you join us. No registration needed-just come as you are.
URL:https://www.dcfirstbaptist.ca/event/ladies-fellowship/2026-06-03/
LOCATION:First Baptist Church\, 1400-113th Ave.\, Dawson Creek\, British Columbia\, V1G 2Z2\, Canada
CATEGORIES:Community,Fellowship
ATTACH;FMTTYPE=image/jpeg:https://www.dcfirstbaptist.ca/wp-content/uploads/2025/10/ladies-ministry-jpg.jpg
ORGANIZER;CN="First Baptist Church":MAILTO:hello@dcfirstbaptist.ca
GEO:55.7477815;-120.241214
X-APPLE-STRUCTURED-LOCATION;VALUE=URI;X-ADDRESS=First Baptist Church 1400-113th Ave. Dawson Creek British Columbia V1G 2Z2 Canada;X-APPLE-RADIUS=500;X-TITLE=1400-113th Ave.:geo:-120.241214,55.7477815
END:VEVENT
END:VCALENDAR